BEGIN:VCALENDAR
VERSION:2.0
PRODID:-//Temnitztal - ECPv6.15.20//NONSGML v1.0//EN
CALSCALE:GREGORIAN
METHOD:PUBLISH
X-ORIGINAL-URL:https://temnitztal.de
X-WR-CALDESC:Veranstaltungen für Temnitztal
REFRESH-INTERVAL;VALUE=DURATION:PT1H
X-Robots-Tag:noindex
X-PUBLISHED-TTL:PT1H
BEGIN:VTIMEZONE
TZID:Europe/Berlin
BEGIN:DAYLIGHT
TZOFFSETFROM:+0100
TZOFFSETTO:+0200
TZNAME:CEST
DTSTART:20250330T010000
END:DAYLIGHT
BEGIN:STANDARD
TZOFFSETFROM:+0200
TZOFFSETTO:+0100
TZNAME:CET
DTSTART:20251026T010000
END:STANDARD
BEGIN:DAYLIGHT
TZOFFSETFROM:+0100
TZOFFSETTO:+0200
TZNAME:CEST
DTSTART:20260329T010000
END:DAYLIGHT
BEGIN:STANDARD
TZOFFSETFROM:+0200
TZOFFSETTO:+0100
TZNAME:CET
DTSTART:20261025T010000
END:STANDARD
BEGIN:DAYLIGHT
TZOFFSETFROM:+0100
TZOFFSETTO:+0200
TZNAME:CEST
DTSTART:20270328T010000
END:DAYLIGHT
BEGIN:STANDARD
TZOFFSETFROM:+0200
TZOFFSETTO:+0100
TZNAME:CET
DTSTART:20271031T010000
END:STANDARD
END:VTIMEZONE
BEGIN:VEVENT
DTSTART;VALUE=DATE:20261024
DTEND;VALUE=DATE:20261026
DTSTAMP:20260419T214410
CREATED:20230222T220450Z
LAST-MODIFIED:20251122T131354Z
UID:10000040-1792800000-1792972799@temnitztal.de
SUMMARY:Kleintierausstellung Wildberg
DESCRIPTION:Kleintierausstellung Wildberg \nTermin Reservierung. Details folgen\, sobald bekannt. \nFlyer vom letzten Jahr: \nDie 63. Kleintierausstellung/ Vereinsschau des Kleintierzuchtverein Wildberg D667 e.V. findet 2026 Jahr wieder in der Sporthalle in Wildberg an der Schule statt. \nSamstag 24.10.2026\nSonntag 25.10.2026 \nGleich nebenan am Samstag ist im Dorfgemeinschaftshaus in Wildberg der 7. KreativMarkt – Kunst und Handwerk. \n  \nFacebookTwitterWhatsAppTelegramEmail
URL:https://temnitztal.de/event/kleintierausstellung-wildberg/
LOCATION:Sporthalle Wildberg\, Sporthalle Wildberg\, Wildberg\, Brandenburg\, 16845
ATTACH;FMTTYPE=image/jpeg:https://temnitztal.de/wp-content/uploads/2021/12/Kleintierzuechter-Ausstellung-Wildberg-2021-scaled.jpg
ORGANIZER;CN="Kleintierzuchtverein D677 Wildberg":MAILTO:joachim.krebs1@gmx.de
END:VEVENT
END:VCALENDAR