BEGIN:VCALENDAR
VERSION:2.0
PRODID:-//Temnitztal - ECPv6.15.20//NONSGML v1.0//EN
CALSCALE:GREGORIAN
METHOD:PUBLISH
X-ORIGINAL-URL:https://temnitztal.de
X-WR-CALDESC:Veranstaltungen für Temnitztal
REFRESH-INTERVAL;VALUE=DURATION:PT1H
X-Robots-Tag:noindex
X-PUBLISHED-TTL:PT1H
BEGIN:VTIMEZONE
TZID:Europe/Berlin
BEGIN:DAYLIGHT
TZOFFSETFROM:+0100
TZOFFSETTO:+0200
TZNAME:CEST
DTSTART:20250330T010000
END:DAYLIGHT
BEGIN:STANDARD
TZOFFSETFROM:+0200
TZOFFSETTO:+0100
TZNAME:CET
DTSTART:20251026T010000
END:STANDARD
BEGIN:DAYLIGHT
TZOFFSETFROM:+0100
TZOFFSETTO:+0200
TZNAME:CEST
DTSTART:20260329T010000
END:DAYLIGHT
BEGIN:STANDARD
TZOFFSETFROM:+0200
TZOFFSETTO:+0100
TZNAME:CET
DTSTART:20261025T010000
END:STANDARD
BEGIN:DAYLIGHT
TZOFFSETFROM:+0100
TZOFFSETTO:+0200
TZNAME:CEST
DTSTART:20270328T010000
END:DAYLIGHT
BEGIN:STANDARD
TZOFFSETFROM:+0200
TZOFFSETTO:+0100
TZNAME:CET
DTSTART:20271031T010000
END:STANDARD
END:VTIMEZONE
BEGIN:VEVENT
DTSTART;TZID=Europe/Berlin:20261031T170000
DTEND;TZID=Europe/Berlin:20261031T235900
DTSTAMP:20260419T232941
CREATED:20230222T212148Z
LAST-MODIFIED:20251122T131818Z
UID:10000029-1793466000-1793491140@temnitztal.de
SUMMARY:Reformationsfeuer an der Wildberger Kirche
DESCRIPTION:Voraussichtlich ab 17 Uhr.\nWeitere Informationen folgen\, sobald bekannt. \nFacebookTwitterWhatsAppTelegramEmail
URL:https://temnitztal.de/event/reformationsfeuer-an-der-kirche-2023/
LOCATION:St.Nicolai-Kirche Wildberg\, Ernst-Thälmann-Straße 12\, Wildberg\, 16845\, Deutschland
ATTACH;FMTTYPE=image/jpeg:https://temnitztal.de/wp-content/uploads/2022/10/wp-1666996047638.jpg
END:VEVENT
END:VCALENDAR