BEGIN:VCALENDAR
VERSION:2.0
PRODID:-//Temnitztal - ECPv6.15.20//NONSGML v1.0//EN
CALSCALE:GREGORIAN
METHOD:PUBLISH
X-WR-CALNAME:Temnitztal
X-ORIGINAL-URL:https://temnitztal.de
X-WR-CALDESC:Veranstaltungen für Temnitztal
REFRESH-INTERVAL;VALUE=DURATION:PT1H
X-Robots-Tag:noindex
X-PUBLISHED-TTL:PT1H
BEGIN:VTIMEZONE
TZID:Europe/Berlin
BEGIN:DAYLIGHT
TZOFFSETFROM:+0100
TZOFFSETTO:+0200
TZNAME:CEST
DTSTART:20250330T010000
END:DAYLIGHT
BEGIN:STANDARD
TZOFFSETFROM:+0200
TZOFFSETTO:+0100
TZNAME:CET
DTSTART:20251026T010000
END:STANDARD
BEGIN:DAYLIGHT
TZOFFSETFROM:+0100
TZOFFSETTO:+0200
TZNAME:CEST
DTSTART:20260329T010000
END:DAYLIGHT
BEGIN:STANDARD
TZOFFSETFROM:+0200
TZOFFSETTO:+0100
TZNAME:CET
DTSTART:20261025T010000
END:STANDARD
BEGIN:DAYLIGHT
TZOFFSETFROM:+0100
TZOFFSETTO:+0200
TZNAME:CEST
DTSTART:20270328T010000
END:DAYLIGHT
BEGIN:STANDARD
TZOFFSETFROM:+0200
TZOFFSETTO:+0100
TZNAME:CET
DTSTART:20271031T010000
END:STANDARD
END:VTIMEZONE
BEGIN:VEVENT
DTSTART;TZID=Europe/Berlin:20260314T130000
DTEND;TZID=Europe/Berlin:20260314T180000
DTSTAMP:20260420T011409
CREATED:20250312T121654Z
LAST-MODIFIED:20260313T211720Z
UID:10000207-1773493200-1773511200@temnitztal.de
SUMMARY:Fischerfest beim Wildberg Anglerverein
DESCRIPTION:  \n  \n  \n\n\n\nFacebookTwitterWhatsAppTelegramEmail
URL:https://temnitztal.de/event/fischerfest-beim-wildberg-anglerverein/
LOCATION:Karpfenteich – Anglerverein Wildberg\, Karpfenteich - Anglerverein Wildberg\, Wildberg\, 16845\, Deutschland
ATTACH;FMTTYPE=image/jpeg:https://temnitztal.de/wp-content/uploads/2021/08/CIMG9302-scaled.jpg
END:VEVENT
END:VCALENDAR