BEGIN:VCALENDAR
VERSION:2.0
PRODID:-//Temnitztal - ECPv6.15.20//NONSGML v1.0//EN
CALSCALE:GREGORIAN
METHOD:PUBLISH
X-ORIGINAL-URL:https://temnitztal.de
X-WR-CALDESC:Veranstaltungen für Temnitztal
REFRESH-INTERVAL;VALUE=DURATION:PT1H
X-Robots-Tag:noindex
X-PUBLISHED-TTL:PT1H
BEGIN:VTIMEZONE
TZID:Europe/Berlin
BEGIN:DAYLIGHT
TZOFFSETFROM:+0100
TZOFFSETTO:+0200
TZNAME:CEST
DTSTART:20250330T010000
END:DAYLIGHT
BEGIN:STANDARD
TZOFFSETFROM:+0200
TZOFFSETTO:+0100
TZNAME:CET
DTSTART:20251026T010000
END:STANDARD
BEGIN:DAYLIGHT
TZOFFSETFROM:+0100
TZOFFSETTO:+0200
TZNAME:CEST
DTSTART:20260329T010000
END:DAYLIGHT
BEGIN:STANDARD
TZOFFSETFROM:+0200
TZOFFSETTO:+0100
TZNAME:CET
DTSTART:20261025T010000
END:STANDARD
BEGIN:DAYLIGHT
TZOFFSETFROM:+0100
TZOFFSETTO:+0200
TZNAME:CEST
DTSTART:20270328T010000
END:DAYLIGHT
BEGIN:STANDARD
TZOFFSETFROM:+0200
TZOFFSETTO:+0100
TZNAME:CET
DTSTART:20271031T010000
END:STANDARD
END:VTIMEZONE
BEGIN:VEVENT
DTSTART;TZID=Europe/Berlin:20260821T163000
DTEND;TZID=Europe/Berlin:20260821T180000
DTSTAMP:20260425T035715
CREATED:20260412T191331Z
LAST-MODIFIED:20260412T191331Z
UID:10000273-1787329800-1787335200@temnitztal.de
SUMMARY:Dankgottesdienst - Kirche Garz
DESCRIPTION:Dankgottesdienst\n21.8.2026-16:30 Uhr\nKirche Garz – Eintritt frei\nmit Margot Käßmann Bischöfin a.D\nund ab 18:00 Uhr\, Mathias Platzek Fest Vortrag: im Osten nichts Neues? \nFacebookTwitterWhatsAppTelegramEmail
URL:https://temnitztal.de/event/dankgottesdienst-kirche-garz/
LOCATION:Dorfkirche Garz\, Luchdamm 18\, 16845 Garz\, Garz\, 16845\, Deutschland
ATTACH;FMTTYPE=image/jpeg:https://temnitztal.de/wp-content/uploads/2022/01/Kirche-Garz-bunt.jpg
ORGANIZER;CN="evang. Gesamtkirchengmeinde Temnitz":MAILTO:temnitz@kirche-wittstock-ruppin.de
END:VEVENT
END:VCALENDAR